BEGIN:VCALENDAR
VERSION:2.0
PRODID:-//wp-events-plugin.com//7.2.3.1//EN
TZID:Europe/Berlin
X-WR-TIMEZONE:Europe/Berlin
BEGIN:VEVENT
UID:837@freiwerk-paderborn.de
DTSTART;TZID=Europe/Berlin:20220924T110000
DTEND;TZID=Europe/Berlin:20220924T140000
DTSTAMP:20220905T132811Z
URL:https://freiwerk-paderborn.de/events/einstieg-ins-schweissen-2/
SUMMARY:Einstieg ins Schweißen
DESCRIPTION:Ab sofort wird im FreiWerk auch geschweißt! In unserem Schwei
 ß-Workshop zeigen wir dir die Grundlagen des Schweißgeräts und erste Ti
 pps und Tricks bei der Nahtführung. Ruckzuck entstehen die ersten Verbind
 ungen und vielleicht ja auch ganz schnell ein gemeinsames Kunstwerk?\nZieh
  dich warm aber nicht schick an \;) Eine alte Jacke oder Pullover (möglic
 hst kunststofffrei) sind perfekt.\n\n\n\nWorkshopleitung: Tobias\n\nHier d
 ie gebündelten Informationen:\n\n- 24. September 2022\n- 11:00 bis 14:00 
 Uhr\n- 5 € (Bezahlung bar vor Ort)\n\nAnmeldung bis 22.September um 23:0
 0 Uhr
CATEGORIES:Workshops
LOCATION:FreiWerk Paderborn\, Friedrichstraße 25\, Paderborn\, Deutschland
X-APPLE-STRUCTURED-LOCATION;VALUE=URI;X-ADDRESS=Friedrichstraße 25\, Pader
 born\, Deutschland;X-APPLE-RADIUS=100;X-TITLE=FreiWerk Paderborn:geo:0,0
END:VEVENT
BEGIN:VTIMEZONE
TZID:Europe/Berlin
X-LIC-LOCATION:Europe/Berlin
BEGIN:DAYLIGHT
DTSTART:20220327T030000
TZOFFSETFROM:+0100
TZOFFSETTO:+0200
TZNAME:CEST
END:DAYLIGHT
END:VTIMEZONE
END:VCALENDAR