BEGIN:VCALENDAR
VERSION:2.0
PRODID:-//wp-events-plugin.com//7.2.3.1//EN
TZID:Europe/Berlin
X-WR-TIMEZONE:Europe/Berlin
BEGIN:VEVENT
UID:214@freiwerk-paderborn.de
DTSTART;TZID=Europe/Berlin:20201115T150000
DTEND;TZID=Europe/Berlin:20201115T180000
DTSTAMP:20201101T161832Z
URL:https://freiwerk-paderborn.de/events/handlettering-weihnachts-winter-e
 dition-ab-15-jahren/
SUMMARY:Entfällt: Handlettering – Winter-Weihnachts-Edition
DESCRIPTION:Gemeinsam wollen wir Basteln\, Schreiben und Gestalten: Karten 
 mit winterlichen Motiven oder kleine Plakate. Am Ende hast du einen kleine
 n Stapel schöner Dinge\, mit denen du dir selbst und anderen eine Freude 
 machen kannst.\n\nAuch Jugendliche ab 15 Jahren können gerne teilnehmen.\
 n\nHier die gebündelten Informationen:\n- 15. November 2020\n- 15 bis 18 
 Uhr\n- im FreiWerk Paderborn\n- 10 € pro Person (Bezahlung bar vor Ort)\
 n\nAnmeldung bis 13.11. um 23:00 Uhr \;)\n\nWir freuen uns auf Dich!\n\n&n
 bsp\;
CATEGORIES:Workshops
LOCATION:FreiWerk Paderborn\, Friedrichstraße 25\, Paderborn\, Deutschland
X-APPLE-STRUCTURED-LOCATION;VALUE=URI;X-ADDRESS=Friedrichstraße 25\, Pader
 born\, Deutschland;X-APPLE-RADIUS=100;X-TITLE=FreiWerk Paderborn:geo:0,0
END:VEVENT
BEGIN:VTIMEZONE
TZID:Europe/Berlin
X-LIC-LOCATION:Europe/Berlin
BEGIN:STANDARD
DTSTART:20201025T020000
TZOFFSETFROM:+0200
TZOFFSETTO:+0100
TZNAME:CET
END:STANDARD
END:VTIMEZONE
END:VCALENDAR