BEGIN:VCALENDAR
VERSION:2.0
PRODID:-//wp-events-plugin.com//7.2.3.1//EN
TZID:Europe/Berlin
X-WR-TIMEZONE:Europe/Berlin
BEGIN:VEVENT
UID:495@freiwerk-paderborn.de
DTSTART;TZID=Europe/Berlin:20220123T160000
DTEND;TZID=Europe/Berlin:20220123T180000
DTSTAMP:20211227T100012Z
URL:https://freiwerk-paderborn.de/events/illusionsstricken/
SUMMARY:Illusionsstricken
DESCRIPTION:\n\n\n\n\n\n\n\n\n\n\n\n\n\n\n\n\n\n\n\n\n\n\n\n\n\n\nSo schaut
  das Ergebnis bewegt aus: Illusionsstricken\n\nOptische Illusionen\, die a
 us rechten und linken Maschen entstehen\, bergen etwas Geheimnisvolles. Da
 bei ist alles ganz einfach! Du musst für diesen Workshop nur Maschen ans
 chlagen und sicher linke und rechte Maschen stricken können. Ein bißche
 n Spaß an Zählmustern ist auch hilfreich. Es wird in Reihen gestrickt\,
  immer nur mit einer Farbe. Du kannst in diesem Workshop ein einfaches Mot
 iv wählen und aus einem Baumwoll-Leinen-Gemisch stricken. Mit dieser Tec
 hnik kannst Du Tücher\, Jacken und witzige Pullover machen. Bitte bring 
 Stricknadeln in Stärke 3\,5 mit.\n\n\n\n\n\n\n\n\n\n\n\n\n\n\n\n\n\n\n\n
 \n\n\n\n\n\n\n 	Workshopleitung: Simone\n 	5 €\, 2 € für Vereinsmitgl
 ieder \n 	2G-Nachweis bei Eintritt bereithalten (Geimpft oder Genesen)\n\
 nAnmeldung bis 21.01.22 um 23:00 Uhr \;)\n\nWir freuen uns auf Dich!
CATEGORIES:Workshops
LOCATION:FreiWerk Paderborn\, Friedrichstraße 25\, Paderborn\, Deutschland
X-APPLE-STRUCTURED-LOCATION;VALUE=URI;X-ADDRESS=Friedrichstraße 25\, Pader
 born\, Deutschland;X-APPLE-RADIUS=100;X-TITLE=FreiWerk Paderborn:geo:0,0
END:VEVENT
BEGIN:VTIMEZONE
TZID:Europe/Berlin
X-LIC-LOCATION:Europe/Berlin
BEGIN:STANDARD
DTSTART:20211031T020000
TZOFFSETFROM:+0200
TZOFFSETTO:+0100
TZNAME:CET
END:STANDARD
END:VTIMEZONE
END:VCALENDAR