BEGIN:VCALENDAR
VERSION:2.0
PRODID:-//wp-events-plugin.com//7.2.3.1//EN
TZID:Europe/Berlin
X-WR-TIMEZONE:Europe/Berlin
BEGIN:VEVENT
UID:1280@freiwerk-paderborn.de
DTSTART;TZID=Europe/Berlin:20231203T173000
DTEND;TZID=Europe/Berlin:20231203T200000
DTSTAMP:20231111T193556Z
URL:https://freiwerk-paderborn.de/events/kunsttreff-figuerliches-zeichnen-
 7/
SUMMARY:KunstTreff: Figürliches Zeichnen
DESCRIPTION:\n\nWir zeichnen den menschlichen Körper und üben uns darin P
 roportionen und Gestik darzustellen. Als Vorlage dienen entweder externe P
 ersonen\, die für uns Modell stehen oder wir zeichnen uns gegenseitig. Da
 bei einigen wir uns auf Zeitintervalle von beispielsweise 5 Minuten\, in d
 er das Modell eine Position einnimmt. Dazwischen machen wir Pausen und tau
 schen uns aus.\n\n \n\nAls Material nutzen wir in der Regel Papier und Zei
 chenkohle\, die vorhanden sind. Es muss kein eigenes Material mitgebracht 
 werden\, aber es gibt auch die Möglichkeit mit seinen eigenen Utensilien 
 kreativ zu werden.\n\n\n\nAblauf: Von 17:30 – 18 Uhr gibt es für Neuli
 nge eine Einführung in die Thematik. Es werden Methoden erklärt\, wie ma
 n Körper entweder schnell skizziert oder sie im Gegensatz detailreich dar
 stellt. Außerdem wird der Umgang mit Zeichenkohle erklärt. Um 18 Uhr sta
 rten wir dann mit dem gemeinsamen Zeichnen. Wenn du also die Einführung s
 chon kennst oder fortgeschrittener bist\, kannst du zu dieser Zeit kommen.
 \n\nWir freuen uns auf Anfänger und Fortgeschrittene. Jedes Niveau bietet
  eigene Möglichkeiten sich auszuprobieren und kreativ zu sein.\n\nHier di
 e gebündelten Informationen:\n– Workshopleitung: Raphael\n\nAnmeldungen
  zum Tag selbst\, 17 Uhr\, möglich \;)\n\nWir freuen uns auf Dich!
CATEGORIES:Workshops
LOCATION:FreiWerk Paderborn\, Friedrichstraße 25\, Paderborn\, Deutschland
X-APPLE-STRUCTURED-LOCATION;VALUE=URI;X-ADDRESS=Friedrichstraße 25\, Pader
 born\, Deutschland;X-APPLE-RADIUS=100;X-TITLE=FreiWerk Paderborn:geo:0,0
END:VEVENT
BEGIN:VTIMEZONE
TZID:Europe/Berlin
X-LIC-LOCATION:Europe/Berlin
BEGIN:STANDARD
DTSTART:20231029T020000
TZOFFSETFROM:+0200
TZOFFSETTO:+0100
TZNAME:CET
END:STANDARD
END:VTIMEZONE
END:VCALENDAR