BEGIN:VCALENDAR
VERSION:2.0
PRODID:-//wp-events-plugin.com//7.2.3.1//EN
TZID:Europe/Berlin
X-WR-TIMEZONE:Europe/Berlin
BEGIN:VEVENT
UID:1206@freiwerk-paderborn.de
DTSTART;TZID=Europe/Berlin:20230909T160000
DTEND;TZID=Europe/Berlin:20230909T180000
DTSTAMP:20230816T072129Z
URL:https://freiwerk-paderborn.de/events/kuppelfest23-fahrrad/
SUMMARY:Auf dem Kuppelfest: Fahrrad-Reparatur-Aktion mit Manuel & Joel
DESCRIPTION:Im Rahmen des Kuppelfestes im Schloßpark Paderborn/Neuhaus bie
 ten wir folgenden Workshop an:\n\nFahrrad-Reparatur-Aktion mit Manuel &amp
 \; Joel\nKennst du schon unseren FahrradTreff im FreiWerk? Nun kommt der F
 ahrradTreff zu Gast auf das Kuppelfest und du hast vor Ort die Möglichkei
 t dir bei den kleinen Reparaturen am Fahrrad helfen zu lassen oder Tipps z
 u holen. Bremse nachstellen\, Schaltung einstellen\, Kette ölen oder Kabe
 lbinder austauschen? Auf dem Kuppelfest helfen wir dir beim Boxenstop und 
 haben das nötige Material direkt dabei! Und für die größeren Reparatur
 en empfehlen wir dir unseren FahrradTreff.\n\n\n\nHier die gebündelten In
 formationen:\n- Samstag\, 09. September 2023\n- 16 bis 18 Uhr (deine Teiln
 ahme dauert natürlich nicht so lange\, du kannst aber in diesem Zeitraum 
 zu uns kommen\, gerne zu Beginn)\n- auf der Workshopwiese im Schloß- und 
 Auenpark in Schloß Neuhaus (Details zum Festival siehe diekuppel.de)\n- k
 ostenlos\n- ab 6 - 99 Jahre\n\nWir freuen uns auf deine Anmeldung oder spo
 ntanen Besuch auf dem Kuppelfest. Schau dir doch auch unser weiteres Works
 hopangebot auf dem Kuppelfest an und erzähl's weiter \;)\n\nWir freuen un
 s auf Dich!
CATEGORIES:Workshops
LOCATION:Im Schloßpark (Kuppelfest)\, Residenzstraße 2\, Schloß Neuhaus\
 , Deutschland
X-APPLE-STRUCTURED-LOCATION;VALUE=URI;X-ADDRESS=Residenzstraße 2\, Schloß
  Neuhaus\, Deutschland;X-APPLE-RADIUS=100;X-TITLE=Im Schloßpark (Kuppelfe
 st):geo:0,0
END:VEVENT
BEGIN:VTIMEZONE
TZID:Europe/Berlin
X-LIC-LOCATION:Europe/Berlin
BEGIN:DAYLIGHT
DTSTART:20230326T030000
TZOFFSETFROM:+0100
TZOFFSETTO:+0200
TZNAME:CEST
END:DAYLIGHT
END:VTIMEZONE
END:VCALENDAR