BEGIN:VCALENDAR
VERSION:2.0
PRODID:-//wp-events-plugin.com//7.2.3.1//EN
TZID:Europe/Berlin
X-WR-TIMEZONE:Europe/Berlin
BEGIN:VEVENT
UID:1803@freiwerk-paderborn.de
DTSTART;TZID=Europe/Berlin:20250509T170000
DTEND;TZID=Europe/Berlin:20250509T235900
DTSTAMP:20250424T102242Z
URL:https://freiwerk-paderborn.de/events/lange-nacht-des-handarbeitens-mai
 -2025/
SUMMARY:Lange Nacht des Handarbeitens Mai 2025
DESCRIPTION:\nDeine Garnvorräte stapeln sich zu Hause? Du findest keine Mo
 tivation\, um liegengebliebene Projekte fertigzustellen? Das kannst du än
 dern :)\nUnd zwar in netter Gesellschaft bei uns im FreiWerk. Bei der lang
 en Nacht der Handarbeit sitzen wir zusammen und nähen\, stricken\, häkel
 n etc. solange\, bis uns die Augen zufallen.\n\nEindrücke findest du hier
  :)\n\nBring gern etwas (vegan/vegetarisches) mit: Snacks\, Kekse\, Nüsse
 \, Punsch\, deinen Lieblingstee...\n\nUnd natürlich gilt: Wir machen nur 
 so lange\, wie wir Lust haben \;)\n\nHier haben wir ein paar technische Hi
 nweise für dich:\n\n 	Deine Anmeldung ist erst mit unserer Bestätigung g
 ültig\, die du per Mail bekommst.\n 	Bitte melde dich nur an\, wenn du sc
 hon etwas Handarbeiten kannst und ein Projekt mitbringst\, an dem du selbs
 tständig arbeiten kannst. Wenn du eine neue Handarbeitstechnik erlernen w
 illst\, bist du herzlich eingeladen\, mittwochs zum Textiltreff zu kommen.
 \n\nWir freuen uns auf Dich!\nDein FreiWerk-Team
CATEGORIES:Öffnungszeit,Workshops
LOCATION:FreiWerk Paderborn\, Friedrichstraße 25\, Paderborn\, Deutschland
X-APPLE-STRUCTURED-LOCATION;VALUE=URI;X-ADDRESS=Friedrichstraße 25\, Pader
 born\, Deutschland;X-APPLE-RADIUS=100;X-TITLE=FreiWerk Paderborn:geo:0,0
END:VEVENT
BEGIN:VTIMEZONE
TZID:Europe/Berlin
X-LIC-LOCATION:Europe/Berlin
BEGIN:DAYLIGHT
DTSTART:20250330T030000
TZOFFSETFROM:+0100
TZOFFSETTO:+0200
TZNAME:CEST
END:DAYLIGHT
END:VTIMEZONE
END:VCALENDAR