BEGIN:VCALENDAR
VERSION:2.0
PRODID:-//wp-events-plugin.com//7.2.3.1//EN
TZID:Europe/Berlin
X-WR-TIMEZONE:Europe/Berlin
BEGIN:VEVENT
UID:1031@freiwerk-paderborn.de
DTSTART;TZID=Europe/Berlin:20230312T130000
DTEND;TZID=Europe/Berlin:20230312T143000
DTSTAMP:20230209T085218Z
URL:https://freiwerk-paderborn.de/events/lesezeichen-und-origamiherzen-3/
SUMMARY:Lesezeichen und Origamiherzen
DESCRIPTION:\n\n\n\n\n\n\n\n\n\n\n\n\n\n\n\n\n\n\n\n\n\n\n\n\n\n\n\n\n\n\n\
 n\n\n\n\n\n\n\nIn diesem Workshop kannst Du Lesezeichen und Origamiherzen 
 falten. Vorkenntnisse benötigst Du nicht - es macht einfach nur Spass :-
 )\n\n\n\n\n\n\n\n\n\n\n\n\n\n\n 	Workshopleitung: Simone\n 	5 €\, 2 € 
 für Vereinsmitglieder\n\nAnmeldung bis 10.03. um 23:00 Uhr \;)\n\nWir fre
 uen uns auf Dich!\n\n\n\n\n\n\n\n\n\n\n\n\n\n\n\n\n\n\n\n\n\n\n\n\n
CATEGORIES:Workshops
LOCATION:FreiWerk Paderborn\, Friedrichstraße 25\, Paderborn\, Deutschland
X-APPLE-STRUCTURED-LOCATION;VALUE=URI;X-ADDRESS=Friedrichstraße 25\, Pader
 born\, Deutschland;X-APPLE-RADIUS=100;X-TITLE=FreiWerk Paderborn:geo:0,0
END:VEVENT
BEGIN:VTIMEZONE
TZID:Europe/Berlin
X-LIC-LOCATION:Europe/Berlin
BEGIN:STANDARD
DTSTART:20221030T020000
TZOFFSETFROM:+0200
TZOFFSETTO:+0100
TZNAME:CET
END:STANDARD
END:VTIMEZONE
END:VCALENDAR