BEGIN:VCALENDAR
VERSION:2.0
PRODID:-//wp-events-plugin.com//7.2.3.1//EN
TZID:Europe/Berlin
X-WR-TIMEZONE:Europe/Berlin
BEGIN:VEVENT
UID:321@freiwerk-paderborn.de
DTSTART;TZID=Europe/Berlin:20210806T170000
DTEND;TZID=Europe/Berlin:20210806T190000
DTSTAMP:20210722T102539Z
URL:https://freiwerk-paderborn.de/events/makramee-haengeampel/
SUMMARY:Makramee-Hängeampel
DESCRIPTION:&nbsp\;\n\nIn diesem Workshop stellst du eine einfache Hängung
  für einen Blumentopf aus Makramee her.\n\nBitte mitbringen: Ein bisschen
  Geduld \;)\n\nHier die gebündelten Informationen:\n– 06. August 2021\n
 – 17:00 bis 19:00 Uhr\n– im FreiWerk Paderborn\n– 8 €\, 5 € für
  Vereinsmitglieder\n\nWorkshopleitung: Angelina und Ha My\n\nAnmeldungen b
 is Mittwoch\, 04. August\, 23:00 Uhr möglich \;)\n\nWir freuen uns auf Di
 ch!\n\n&nbsp\;
CATEGORIES:Workshops
LOCATION:FreiWerk Paderborn\, Friedrichstraße 25\, Paderborn\, Deutschland
X-APPLE-STRUCTURED-LOCATION;VALUE=URI;X-ADDRESS=Friedrichstraße 25\, Pader
 born\, Deutschland;X-APPLE-RADIUS=100;X-TITLE=FreiWerk Paderborn:geo:0,0
END:VEVENT
BEGIN:VTIMEZONE
TZID:Europe/Berlin
X-LIC-LOCATION:Europe/Berlin
BEGIN:DAYLIGHT
DTSTART:20210328T030000
TZOFFSETFROM:+0100
TZOFFSETTO:+0200
TZNAME:CEST
END:DAYLIGHT
END:VTIMEZONE
END:VCALENDAR