BEGIN:VCALENDAR
VERSION:2.0
PRODID:-//wp-events-plugin.com//7.2.3.1//EN
TZID:Europe/Berlin
X-WR-TIMEZONE:Europe/Berlin
BEGIN:VEVENT
UID:1955@freiwerk-paderborn.de
DTSTART;TZID=Europe/Berlin:20251122T153000
DTEND;TZID=Europe/Berlin:20251122T180000
DTSTAMP:20251024T092835Z
URL:https://freiwerk-paderborn.de/events/mgv-2025/
SUMMARY:Unsere Mitgliederversammlung 2025
DESCRIPTION:Hallo Du\,\n\ntoll\, dass du dich zu unserer Mitgliederversamml
 ung anmelden möchtest! Das hilft uns wunderbar bei der genauen Planung. D
 as kleine Anmeldeformular findest du unten.\n\nWir würden gerne ein Mitbr
 ing-Bufett zusammenstellen – ganz nach FreiWerk Manier "Selbstgemacht is
 t am besten" :) Vegetarisch wäre super. Süß oder herzhaft – such es d
 ir aus \;) Wenn du nichts mitbringst ist das auch völlig in Ordnung!\n\nH
 interlass uns doch kurz eine kleine Nachricht als Kommentar:\nMöchtest du
  etwas zum Bufett beitragen?\nHast du eine eigene Idee oder Frage die du b
 esprechen möchtest?\nDu kannst nicht so lange bleiben oder möchtest eine
 n eigenen Programmpunkt ansprechen?\nWir melden uns gerne bei dir zurück 
 \;)\n\nBeste Grüße und bis dahin!\nAndre\, Ha My\, Vanessa und Lennart\n
 (Vorstand des Vereins)\n\nPS.: Du magst noch jemanden mitbringen und für 
 das FreiWerk begeistern? Genial! Einfach bei der Anmeldung mit angeben und
  einen Mitgliedsantrag ausfüllen und mitbringen: Mitgliedschaft
LOCATION:Kinderbibliothek in der Rathauspassage\, Rosenstraße 13\, Paderbo
 rn\, Deutschland
X-APPLE-STRUCTURED-LOCATION;VALUE=URI;X-ADDRESS=Rosenstraße 13\, Paderborn
 \, Deutschland;X-APPLE-RADIUS=100;X-TITLE=Kinderbibliothek in der Rathausp
 assage:geo:0,0
END:VEVENT
BEGIN:VTIMEZONE
TZID:Europe/Berlin
X-LIC-LOCATION:Europe/Berlin
BEGIN:STANDARD
DTSTART:20251026T020000
TZOFFSETFROM:+0200
TZOFFSETTO:+0100
TZNAME:CET
END:STANDARD
END:VTIMEZONE
END:VCALENDAR