BEGIN:VCALENDAR
VERSION:2.0
PRODID:-//wp-events-plugin.com//7.2.3.1//EN
TZID:Europe/Berlin
X-WR-TIMEZONE:Europe/Berlin
BEGIN:VEVENT
UID:1036@freiwerk-paderborn.de
DTSTART;TZID=Europe/Berlin:20230322T170000
DTEND;TZID=Europe/Berlin:20230322T200000
DTSTAMP:20230210T140329Z
URL:https://freiwerk-paderborn.de/events/misch-dich-ein-kreativ-gegen-rass
 ismus/
SUMMARY:Misch dich ein – Kreativ gegen Rassismus
DESCRIPTION:\n\n\n\n\n\n\n\n\n\n\n\n\n\n\n\n\n\n\n\n\n\n\n\n\n\n\n\n\n\n\nV
 om 20.03.2023 bis zum 02.04.2023 finden die internationalen Wochen gegen R
 assismus unter dem Motto "Misch dich ein" statt.\n\nGemeinsam mit der youn
 gcaritas im Erzbistum Paderborn wollen wir uns gemeinsam kreativ gegen Ras
 sismus einsetzen.\n\nKommt am 22.03.2022 in der Zeit von 17 bis 20 Uhr zu 
 uns ins FreiWerk und gestaltet eine Stofftasche mit Botschaften gegen Rass
 ismus und für Vielfalt. Selbstverständlich könnt ihr auch eigene Textil
 ien mitbringen und diese gestalten.\n\nDie Aktion ist kostenfrei und ihr k
 önnt einfach alle halbe Stunde ohne Anmeldung vorbei kommen:\n17:00\, 17:
 30\, 18:00\, 18:30\, 19:00\, 19:30\, 20:00\, 20:30 Uhr\nBringt einfach etw
 as Geduld mit\, sollten gerade die Plätze belegt sein \;)\n\n\n\n\n\nAnsp
 rechperson: Angelina\n\n\n\n\n\n\n\n\n\n\n\n\n\n\n\n\n\n\n\n\n\n\n\n\n\nWi
 r freuen uns auf Dich!\n\n&nbsp\;\n\n&nbsp\;\n\n&nbsp\;\n\n&nbsp\;
CATEGORIES:Workshops
LOCATION:FreiWerk Paderborn\, Friedrichstraße 25\, Paderborn\, Deutschland
X-APPLE-STRUCTURED-LOCATION;VALUE=URI;X-ADDRESS=Friedrichstraße 25\, Pader
 born\, Deutschland;X-APPLE-RADIUS=100;X-TITLE=FreiWerk Paderborn:geo:0,0
END:VEVENT
BEGIN:VTIMEZONE
TZID:Europe/Berlin
X-LIC-LOCATION:Europe/Berlin
BEGIN:STANDARD
DTSTART:20221030T020000
TZOFFSETFROM:+0200
TZOFFSETTO:+0100
TZNAME:CET
END:STANDARD
END:VTIMEZONE
END:VCALENDAR