BEGIN:VCALENDAR
VERSION:2.0
PRODID:-//wp-events-plugin.com//7.2.3.1//EN
TZID:Europe/Berlin
X-WR-TIMEZONE:Europe/Berlin
BEGIN:VEVENT
UID:1118@freiwerk-paderborn.de
DTSTART;TZID=Europe/Berlin:20230513T100000
DTEND;TZID=Europe/Berlin:20230513T120000
DTSTAMP:20230426T133045Z
URL:https://freiwerk-paderborn.de/events/plissee-vasen-aus-papier-2/
SUMMARY:Plissee Vasen aus Papier
DESCRIPTION:\n\n\n\n\n\n\n\n\n\n\n\n\n\n\n\n\n\n\n\n\n\n\n\n\n\n\n\n\n\n\n\
 n\n\n\n\n\n\n\n\n\n\n\n\n\n\nAus einer einfachen Zieharmonika-Faltung ents
 tehen diese schönen Plissee- Vasen. Die Technik eignet sich auch für L
 ampenschirme\, Lichterketten\, Anhänger und vieles mehr - nach dem Works
 hop kannst Du dann durchstarten :-) Und hier hast Du dann eine schöne Va
 se für den Muttertags-Strauß (die Glasvase für das Innenleben ist auc
 h dabei).\n\n\n\n\n\n\n\n\n\n\n\n\n\n\n\n\n\n\n\n\n\n\n\n\n\n\n\n\n\n\n\n\
 n\n\n\n\n\n\n\n\n\n\n\n\n\n\n 	Workshopleitung: Simone\n 	5 €\, 3 € f
 ür Vereinsmitglieder\n\nAnmeldung bis 11.05. um 23:00 Uhr \;)\n\nWir freu
 en uns auf Dich!
CATEGORIES:Workshops
LOCATION:FreiWerk Paderborn\, Friedrichstraße 25\, Paderborn\, Deutschland
X-APPLE-STRUCTURED-LOCATION;VALUE=URI;X-ADDRESS=Friedrichstraße 25\, Pader
 born\, Deutschland;X-APPLE-RADIUS=100;X-TITLE=FreiWerk Paderborn:geo:0,0
END:VEVENT
BEGIN:VTIMEZONE
TZID:Europe/Berlin
X-LIC-LOCATION:Europe/Berlin
BEGIN:DAYLIGHT
DTSTART:20230326T030000
TZOFFSETFROM:+0100
TZOFFSETTO:+0200
TZNAME:CEST
END:DAYLIGHT
END:VTIMEZONE
END:VCALENDAR