BEGIN:VCALENDAR
VERSION:2.0
PRODID:-//wp-events-plugin.com//7.2.3.1//EN
TZID:Europe/Berlin
X-WR-TIMEZONE:Europe/Berlin
BEGIN:VEVENT
UID:552@freiwerk-paderborn.de
DTSTART;TZID=Europe/Berlin:20220226T150000
DTEND;TZID=Europe/Berlin:20220226T180000
DTSTAMP:20220209T162603Z
URL:https://freiwerk-paderborn.de/events/puzzle-lampe-basteln-2/
SUMMARY:Ausgebucht: Puzzle-Lampe basteln
DESCRIPTION:\n\n\n\n\nIn diesem Workshop stellst Du Dir eine Puzzle-Lampe h
 er. Der Name ist Programm: 30 Puzzle-Teile ausschneiden\, zusammensetzen\,
  fertig :-)\n\nDie fertige Lampe hat einen Durchmesser von knapp 20cm. Gew
 achster Fotokarton und eine LED-Beleuchtung liegen für Dich im Freiwerk b
 ereit.\n\n\n\n\n\n\n\n\n\n\n\n\n\n\n\n\n\n\n\n\n\n\n\n\n\n\n\n\n\n\n\n\n\n
 \n\n\n\n 	Workshopleitung: Simone\n 	8 €\, 5 € für Vereinsmitglieder\
 n 	2G-Nachweis bei Eintritt bereithalten (Geimpft oder Genesen)\n\nAnmeldu
 ng bis 20.02. um 23:00 Uhr \;)\n\nWir freuen uns auf Dich!
CATEGORIES:Workshops
LOCATION:FreiWerk Paderborn\, Friedrichstraße 25\, Paderborn\, Deutschland
X-APPLE-STRUCTURED-LOCATION;VALUE=URI;X-ADDRESS=Friedrichstraße 25\, Pader
 born\, Deutschland;X-APPLE-RADIUS=100;X-TITLE=FreiWerk Paderborn:geo:0,0
END:VEVENT
BEGIN:VTIMEZONE
TZID:Europe/Berlin
X-LIC-LOCATION:Europe/Berlin
BEGIN:STANDARD
DTSTART:20211031T020000
TZOFFSETFROM:+0200
TZOFFSETTO:+0100
TZNAME:CET
END:STANDARD
END:VTIMEZONE
END:VCALENDAR