BEGIN:VCALENDAR
VERSION:2.0
PRODID:-//wp-events-plugin.com//7.2.3.1//EN
TZID:Europe/Berlin
X-WR-TIMEZONE:Europe/Berlin
BEGIN:VEVENT
UID:1978@freiwerk-paderborn.de
DTSTART;TZID=Europe/Berlin:20260131T163000
DTEND;TZID=Europe/Berlin:20260131T190000
DTSTAMP:20251129T163031Z
URL:https://freiwerk-paderborn.de/events/reparaturtreff-1630-uhr-2/
SUMMARY:ReparaturTreff (16:30 Uhr)
DESCRIPTION:Hier kannst du dich zu unserem ReparaturTreff anmelden. WICHTIG
 : Der ReparaturTreff findet im Subraum statt. Sobald wir deine Buchung bes
 tätigt haben\, steht der Vorfreude nichts mehr in Wege! Bei allen Fragen 
 vorab kannst du uns gerne eine Mail schreiben.\nHier haben wir ein paar Hi
 nweise für dich\, damit unsere Öffnungszeiten reibungslos verlaufen kön
 nen:\nRegeln für den ReparaturTreff:\n\n 	Gib bei deiner Anmeldung auch k
 urz im Kommentarfeld an\, was du schon über den Fehler des Geräts weißt
 .\n 	Du darfst nur ein Gerät pro ReparaturTreff mitbringen.\n 	Du musst d
 as Gerät selbstständig in den Subraum befördern (Achtung\, Treppen!).\n
  	Es gibt keine Garantie\, dass der Fehler behoben wird. Nicht reparierbar
 e Geräte müssen selbst entsorgt werden.\n 	Du haftest selbst für Schäd
 en während dieser Veranstaltung und etwaige Folgeschäden.\n 	Ersatzteile
  musst du selbst besorgen. Wir können dir aber bei der Suche behilflich s
 ein.\n 	Bitte bring nur kleine Elektrogeräte oder elektromechanische Ger
 äte mit. Wir haben bei dieser Öffnungszeit keine Möglichkeit Textilien\
 , Möbel oder Elektrogroßgeräte zu reparieren.\n 	Bring ausschließlich 
 private Geräte mit\, die du nicht weiter verkaufen willst\n 	Deine Anmeld
 ung ist erst mit unserer Bestätigung gültig\, die du per Mail bekommst.\
 n 	Du reparierst dein Gerät selbst (unter unserer Anleitung). Der Reparat
 urTreff ist nicht dafür gedacht\, dass du dein Gerät bei uns abgibst und
  repariert wieder zurück bekommst.\n 	Wir behalten uns vor\, Teilnehmende
  bei Missachtung der Regeln vom ReparaturTreff auszuschließen.\n\nWir fre
 uen uns auf Dich!\nDie Teams vom Freiwerk und C3PB
CATEGORIES:Öffnungszeit,Reparaturtreff,Workshops
LOCATION:Subraum - C3PB e.V.\, Westernmauer 12-16\, Paderborn\, 33098\, Deu
 tschland
X-APPLE-STRUCTURED-LOCATION;VALUE=URI;X-ADDRESS=Westernmauer 12-16\, Paderb
 orn\, 33098\, Deutschland;X-APPLE-RADIUS=100;X-TITLE=Subraum - C3PB e.V.:g
 eo:0,0
END:VEVENT
BEGIN:VTIMEZONE
TZID:Europe/Berlin
X-LIC-LOCATION:Europe/Berlin
BEGIN:STANDARD
DTSTART:20251026T020000
TZOFFSETFROM:+0200
TZOFFSETTO:+0100
TZNAME:CET
END:STANDARD
END:VTIMEZONE
END:VCALENDAR