BEGIN:VCALENDAR
VERSION:2.0
PRODID:-//wp-events-plugin.com//7.2.3.1//EN
TZID:Europe/Berlin
X-WR-TIMEZONE:Europe/Berlin
BEGIN:VEVENT
UID:409@freiwerk-paderborn.de
DTSTART;TZID=Europe/Berlin:20210908T180000
DTEND;TZID=Europe/Berlin:20210908T210000
DTSTAMP:20210923T083208Z
URL:https://freiwerk-paderborn.de/events/textiltreff-mittwoch-3-2021-09-08
 /
SUMMARY:TextilTreff – Nähmaschinenbereich (Mittwoch)
DESCRIPTION:Hier kannst du dich zu unserem TextilTreff (Mittwoch 18-21 Uhr)
  anmelden. Melde dich für diesen Bereich an\, wenn du eine Nähmaschine 
 benötigst oder per Hand nähen möchtest \;)\nAchte bitte darauf\, dass d
 u dein gewünschtes Datum (siehe oben) ausgewählt hast. Sobald wir deine 
 Buchung bestätigt haben\, steht der Vorfreude nichts mehr in Wege! Komm' 
 einfach zu deiner gebuchten Öffnungszeit ins FreiWerk. Bei allen Fragen v
 orab kannst du uns gerne eine Mail schreiben.\n\nHier haben wir ein paar t
 echnische Hinweise für dich\, damit unsere Öffnungszeiten reibungslos ve
 rlaufen können:\n\n 	Deine Anmeldung ist erst mit unserer Bestätigung g
 ültig\, die du per Mail bekommst.\n 	Bitte halte deinen "3G-Nachweis" fü
 r uns bereit (Geimpft\, Genesen oder negativer Schnelltest max 48 h alt)\n
  	Im FreiWerk gilt Mundschutz-Pflicht. Wasche dir bei der Ankunft vor Ort 
 die Hände und halte ständig Abstand zu anderen Personen.\n 	Bitte gib be
 i deiner Anmeldung auch kurz an\, an was du während der Öffnungszeit arb
 eiten möchtest\, damit wir die Auslastung der einzelnen Bereiche und Masc
 hinen vorher abschätzen können.\n 	Deine Anmeldung gilt immer für die g
 esamte Öffnungszeit\n\nWir freuen uns auf Dich!\nDein FreiWerk-Team
CATEGORIES:Öffnungszeit
LOCATION:FreiWerk Paderborn\, Friedrichstraße 25\, Paderborn\, Deutschland
X-APPLE-STRUCTURED-LOCATION;VALUE=URI;X-ADDRESS=Friedrichstraße 25\, Pader
 born\, Deutschland;X-APPLE-RADIUS=100;X-TITLE=FreiWerk Paderborn:geo:0,0
END:VEVENT
BEGIN:VTIMEZONE
TZID:Europe/Berlin
X-LIC-LOCATION:Europe/Berlin
BEGIN:DAYLIGHT
DTSTART:20210328T030000
TZOFFSETFROM:+0100
TZOFFSETTO:+0200
TZNAME:CEST
END:DAYLIGHT
END:VTIMEZONE
END:VCALENDAR