BEGIN:VCALENDAR
VERSION:2.0
PRODID:-//wp-events-plugin.com//7.2.3.1//EN
TZID:Europe/Berlin
X-WR-TIMEZONE:Europe/Berlin
BEGIN:VEVENT
UID:773@freiwerk-paderborn.de
DTSTART;TZID=Europe/Berlin:20220828T120000
DTEND;TZID=Europe/Berlin:20220828T160000
DTSTAMP:20220728T101141Z
URL:https://freiwerk-paderborn.de/events/urban-sketching-fuer-neulinge-4/
SUMMARY:Ausgebucht: Urban Sketching für Neulinge
DESCRIPTION:Du zeichnest gerne und würdest das auch gerne mal draußen mac
 hen? Du würdest gerne Reisen oder Erlebnisse skizzenhaft festhalten\, sch
 eust dich aber davor\, dich alleine irgendwo hinzusetzen? Du kennst die "A
 ngst vorm weißen Blatt" und weißt nicht\, wie du am besten anfängst?\nD
 ann laden wir dich herzlich zu unserem Workshop ein!\nDu bekommt von uns G
 rundlagen im Zeichnen vermittelt\, Tipps für Materialien und du lernst\, 
 wie du mit den Herausforderungen beim Zeichnen draußen umgehen kannst. Be
 i uns stehen Ausprobieren und Experimentieren stärker im Fokus als die Th
 eorie \;)\n\n\n\nBeim Urban Sketching geht es darum\, Momente skizzenhaft 
 festzuhalten. Während man sonst oft hunderte von Fotos macht\, die dann i
 rgendwo auf einem digitalen Speichermedium "verstauben"\, nimmt man beim Z
 eichnen die Umwelt viel intensiver wahr und schafft so tolle Erinnerungen.
 \n\nAm Ende unserer gemeinsamen Entdeckungstour durch Paderborn mit Stift 
 und Pinsel hast du dann die ersten Motive in deinem eigenen kleinen Skizze
 nbuch.\nDu bekommt von uns ein kleines Starterpaket\, der Inhalt weiter un
 ten aufgeführt. Außerdem kannst du zusätzlich eigene Materialien mitbri
 ngen\, mit denen du gerne arbeitest. Am besten bringst du dir auch eine Si
 tzunterlage oder einen Campinghocker mit\, um dir einen gemütlichen Platz
  zum zeichnen und malen zu schaffen.\n\nWir starten im Freiwerk mit einer 
 Einführung und gehen dann gemeinsam in die Stadt\, um dort zusammen vor O
 rt zu zeichnen. Du kannst gern bei der Anmeldung in das Kommentarfeld sc
 hreiben\, was dich besonders interessiert.\n\nDer Workshop ist ab 15 Jahre
 n geeignet.\n\nInhalt des Starterpakets:\n\n 	Skizzenbuch Hahnemühle (9 x
  14 cm)\n 	Bleistift\n 	Pentel Wassertank-Pinsel\n 	Aquarellfarbe (Zitrone
 ngelb\, Preußischblau\, Permanent Karmin)\n 	Architektenklammern\n\nBring
  bitte mit: Sitzunterlage\, wetterentsprechende Kleidung\n\n 	Workshopleit
 ung: Marion und Svenja\n 	16 €\, 14 € für Vereinsmitglieder\n\nAnmeld
 ung bis 26.08. um 23:00 Uhr \;)\n\nWir freuen uns auf Dich!
ATTACH;FMTTYPE=image/jpeg:https://freiwerk-paderborn.de/wp-content/uploads
 /2021/08/urbansketching-scaled.jpg
CATEGORIES:Workshops
LOCATION:FreiWerk Paderborn\, Friedrichstraße 25\, Paderborn\, Deutschland
X-APPLE-STRUCTURED-LOCATION;VALUE=URI;X-ADDRESS=Friedrichstraße 25\, Pader
 born\, Deutschland;X-APPLE-RADIUS=100;X-TITLE=FreiWerk Paderborn:geo:0,0
END:VEVENT
BEGIN:VTIMEZONE
TZID:Europe/Berlin
X-LIC-LOCATION:Europe/Berlin
BEGIN:DAYLIGHT
DTSTART:20220327T030000
TZOFFSETFROM:+0100
TZOFFSETTO:+0200
TZNAME:CEST
END:DAYLIGHT
END:VTIMEZONE
END:VCALENDAR