BEGIN:VCALENDAR
VERSION:2.0
PRODID:-//wp-events-plugin.com//7.2.3.1//EN
TZID:Europe/Berlin
X-WR-TIMEZONE:Europe/Berlin
BEGIN:VEVENT
UID:433@freiwerk-paderborn.de
DTSTART;TZID=Europe/Berlin:20211101T160000
DTEND;TZID=Europe/Berlin:20211101T190000
DTSTAMP:20211017T154558Z
URL:https://freiwerk-paderborn.de/events/werktreff-montag-11-2021-11-01/
SUMMARY:leiser WerkTreff 16 Uhr (Montag)
DESCRIPTION:-- Achtung\, dieser WerkTreff liegt auf Allerheiligen\, wir wer
 den daher aus Rücksicht auf unsere Anwohner keine Maschinen einsetzen. De
 r WerkTreff findet außnahmsweise von 16-19 Uhr statt. Handsägearbeiten\,
  Handhobeln\, Oberflächenbehandlungen &amp\; Co sind natürlich möglich.
  Du kennst dich mit der Handbearbeitung von Holz noch nicht aus? Lass' uns
  ein wenig ausprobieren! Wir freuen uns auf einen ruhigen WerkTreff --\n\n
 Hier kannst du dich zu unserem WerkTreff (Montag 16-19 Uhr) anmelden. Acht
 e bitte darauf\, dass du dein gewünschtes Datum (siehe oben) ausgewählt 
 hast. Sobald wir deine Buchung bestätigt haben\, steht der Vorfreude nich
 ts mehr in Wege! Komm' einfach zu deiner gebuchten Öffnungszeit ins FreiW
 erk. Bei allen Fragen vorab kannst du uns gerne eine Mail schreiben.\n\nHi
 er haben wir ein paar technische Hinweise für dich\, damit unsere Öffnun
 gszeiten reibungslos verlaufen können:\n\n 	Deine Anmeldung ist erst mit 
 unserer Bestätigung gültig\, die du per Mail bekommst.\n 	Bitte halte de
 inen "3G-Nachweis" für uns bereit (Geimpft\, Genesen oder negativer Schne
 lltest max 48 h alt)\n 	Im FreiWerk gilt Mundschutz-Pflicht. Wasche dir be
 i der Ankunft vor Ort die Hände und halte ständig Abstand zu anderen Per
 sonen.\n 	Bitte gib bei deiner Anmeldung auch kurz an\, an was du während
  der Öffnungszeit arbeiten möchtest\, damit wir die Auslastung der einze
 lnen Bereiche und Maschinen vorher abschätzen können.\n 	Deine Anmeldung
  gilt immer für die gesamte Öffnungszeit\n\nWir freuen uns auf Dich!\nDe
 in FreiWerk-Team
CATEGORIES:Öffnungszeit,Workshops
LOCATION:FreiWerk Paderborn\, Friedrichstraße 25\, Paderborn\, Deutschland
X-APPLE-STRUCTURED-LOCATION;VALUE=URI;X-ADDRESS=Friedrichstraße 25\, Pader
 born\, Deutschland;X-APPLE-RADIUS=100;X-TITLE=FreiWerk Paderborn:geo:0,0
END:VEVENT
BEGIN:VTIMEZONE
TZID:Europe/Berlin
X-LIC-LOCATION:Europe/Berlin
BEGIN:STANDARD
DTSTART:20211031T020000
TZOFFSETFROM:+0200
TZOFFSETTO:+0100
TZNAME:CET
END:STANDARD
END:VTIMEZONE
END:VCALENDAR