BEGIN:VCALENDAR
VERSION:2.0
PRODID:-//wp-events-plugin.com//7.2.3.1//EN
TZID:Europe/Berlin
X-WR-TIMEZONE:Europe/Berlin
BEGIN:VEVENT
UID:629@freiwerk-paderborn.de
DTSTART;TZID=Europe/Berlin:20220404T180000
DTEND;TZID=Europe/Berlin:20220404T210000
DTSTAMP:20220413T175253Z
URL:https://freiwerk-paderborn.de/events/werktreff-montag-16-2022-04-04/
SUMMARY:Leiser WerkTreff (Montag)
DESCRIPTION:Achtung: Da hier Ostermontag ist\, findet der WerkTreff still s
 tatt.\n\n————————\n\nHier kannst du dich zu unserem WerkTr
 eff (Montag 18-21 Uhr) anmelden. Achte bitte darauf\, dass du dein gewüns
 chtes Datum (siehe oben) ausgewählt hast. Sobald wir deine Buchung bestä
 tigt haben\, steht der Vorfreude nichts mehr in Wege! Komm' einfach zu dei
 ner gebuchten Öffnungszeit ins FreiWerk. Bei allen Fragen vorab kannst du
  uns gerne eine Mail schreiben.\n\nHier haben wir ein paar technische Hinw
 eise für dich\, damit unsere Öffnungszeiten reibungslos verlaufen könne
 n:\n\n 	Deine Anmeldung ist erst mit unserer Bestätigung gültig\, die du
  per Mail bekommst.\n 	Im FreiWerk gilt Mundschutz-Pflicht. Wasche dir bei
  der Ankunft vor Ort die Hände und halte ständig Abstand zu anderen Pers
 onen.\n 	Bitte gib bei deiner Anmeldung auch kurz an\, an was du während 
 der Öffnungszeit arbeiten möchtest\, damit wir die Auslastung der einzel
 nen Bereiche und Maschinen vorher abschätzen können.\n 	Deine Anmeldung 
 gilt immer für die gesamte Öffnungszeit\n\nWir freuen uns auf Dich!\nDei
 n FreiWerk-Team
CATEGORIES:Öffnungszeit
LOCATION:FreiWerk Paderborn\, Friedrichstraße 25\, Paderborn\, Deutschland
X-APPLE-STRUCTURED-LOCATION;VALUE=URI;X-ADDRESS=Friedrichstraße 25\, Pader
 born\, Deutschland;X-APPLE-RADIUS=100;X-TITLE=FreiWerk Paderborn:geo:0,0
END:VEVENT
BEGIN:VTIMEZONE
TZID:Europe/Berlin
X-LIC-LOCATION:Europe/Berlin
BEGIN:DAYLIGHT
DTSTART:20220327T030000
TZOFFSETFROM:+0100
TZOFFSETTO:+0200
TZNAME:CEST
END:DAYLIGHT
END:VTIMEZONE
END:VCALENDAR