BEGIN:VCALENDAR
VERSION:2.0
PRODID:-//wp-events-plugin.com//7.2.3.1//EN
TZID:Europe/Berlin
X-WR-TIMEZONE:Europe/Berlin
BEGIN:VEVENT
UID:841@freiwerk-paderborn.de
DTSTART;TZID=Europe/Berlin:20221003T180000
DTEND;TZID=Europe/Berlin:20221003T210000
DTSTAMP:20220929T121304Z
URL:https://freiwerk-paderborn.de/events/werktreff-montag-20-2022-10-03/
SUMMARY:Entfällt: WerkTreff (Montag)
DESCRIPTION:Dieser WerkTreff findet wegen des Feiertags nicht statt.\n\n---
 --\n\nHier kannst du dich zu unserem WerkTreff (Montag 18-21 Uhr) anmelden
 . Achte bitte darauf\, dass du dein gewünschtes Datum (siehe oben) ausgew
 ählt hast. Sobald wir deine Buchung bestätigt haben\, steht der Vorfreud
 e nichts mehr in Wege! Komm' einfach zu deiner gebuchten Öffnungszeit ins
  FreiWerk. Bei allen Fragen vorab kannst du uns gerne eine Mail schreiben.
 \n\nHier haben wir ein paar technische Hinweise für dich\, damit unsere 
 Öffnungszeiten reibungslos verlaufen können:\n\n 	Deine Anmeldung ist er
 st mit unserer Bestätigung gültig\, die du per Mail bekommst.\n 	Im Frei
 Werk gilt Mundschutz-Pflicht. Wasche dir bei der Ankunft vor Ort die Händ
 e und halte ständig Abstand zu anderen Personen.\n 	Bitte gib bei deiner 
 Anmeldung auch kurz an\, an was du während der Öffnungszeit arbeiten mö
 chtest\, damit wir die Auslastung der einzelnen Bereiche und Maschinen vor
 her abschätzen können.\n 	Deine Anmeldung gilt immer für die gesamte Ö
 ffnungszeit\n\nWir freuen uns auf Dich!\nDein FreiWerk-Team
CATEGORIES:Öffnungszeit
LOCATION:FreiWerk Paderborn\, Friedrichstraße 25\, Paderborn\, Deutschland
X-APPLE-STRUCTURED-LOCATION;VALUE=URI;X-ADDRESS=Friedrichstraße 25\, Pader
 born\, Deutschland;X-APPLE-RADIUS=100;X-TITLE=FreiWerk Paderborn:geo:0,0
END:VEVENT
BEGIN:VTIMEZONE
TZID:Europe/Berlin
X-LIC-LOCATION:Europe/Berlin
BEGIN:DAYLIGHT
DTSTART:20220327T030000
TZOFFSETFROM:+0100
TZOFFSETTO:+0200
TZNAME:CEST
END:DAYLIGHT
END:VTIMEZONE
END:VCALENDAR