BEGIN:VCALENDAR
VERSION:2.0
PRODID:-//wp-events-plugin.com//7.2.3.1//EN
TZID:Europe/Berlin
X-WR-TIMEZONE:Europe/Berlin
BEGIN:VEVENT
UID:37@freiwerk-paderborn.de
DTSTART;TZID=Europe/Berlin:20200629T180000
DTEND;TZID=Europe/Berlin:20200629T210000
DTSTAMP:20200626T075733Z
URL:https://freiwerk-paderborn.de/events/werktreff-montag-2020-06-29/
SUMMARY:Entfällt: Werktreff (Montag)
DESCRIPTION:Hallo Du\, \n\ndieser Werktreff muss leider einmal ausfallen. W
 ir freuen uns auf dich in der nächsten Woche oder am Dienstag \;) \n\nBes
 te Grüße\nDein FreiWerk Team
CATEGORIES:Öffnungszeit
LOCATION:FreiWerk Paderborn\, Friedrichstraße 25\, Paderborn\, Deutschland
X-APPLE-STRUCTURED-LOCATION;VALUE=URI;X-ADDRESS=Friedrichstraße 25\, Pader
 born\, Deutschland;X-APPLE-RADIUS=100;X-TITLE=FreiWerk Paderborn:geo:0,0
END:VEVENT
BEGIN:VTIMEZONE
TZID:Europe/Berlin
X-LIC-LOCATION:Europe/Berlin
BEGIN:DAYLIGHT
DTSTART:20200329T030000
TZOFFSETFROM:+0100
TZOFFSETTO:+0200
TZNAME:CEST
END:DAYLIGHT
END:VTIMEZONE
END:VCALENDAR